BEGIN:VCALENDAR
VERSION:2.0
PRODID:-//hacksw/handcal//NONSGML v1.0//EN
CALSCALE:GREGORIAN
BEGIN:VEVENT
LOCATION:\,  Lugano 
DESCRIPTION:Stadio Comunale Cornaredo
DTSTART:20230114T130000Z
DTEND:20230114T150000Z
SUMMARY:14.01.23 - FC Lugano - Neuchâtel Xamax
URL;VALUE=URI:https://xamax.ch/match/14-01-23-fc-lugano-neuchatel-xamax/
DTSTAMP:20260425T171258Z
UID:69ecf61abce4a
END:VEVENT
END:VCALENDAR
