BEGIN:VCALENDAR
VERSION:2.0
PRODID:-//hacksw/handcal//NONSGML v1.0//EN
CALSCALE:GREGORIAN
BEGIN:VEVENT
LOCATION:\, 2000 Neuchâtel
DESCRIPTION:Stade de la Maladière
DTSTART:20230603T170000Z
DTEND:20230603T190000Z
SUMMARY:03.06.23 - Neuchâtel Xamax - FC Rapperswil-Jona
URL;VALUE=URI:https://xamax.ch/match/03-06-23-neuchatel-xamax-fc-rapperswil-jona/
DTSTAMP:20260421T022502Z
UID:69e6dffe87967
END:VEVENT
END:VCALENDAR
