BEGIN:VCALENDAR
VERSION:2.0
PRODID:-//hacksw/handcal//NONSGML v1.0//EN
CALSCALE:GREGORIAN
BEGIN:VEVENT
LOCATION:\,  
DESCRIPTION:Rheinpark Stadion
DTSTART:20230827T121500Z
DTEND:20230827T141500Z
SUMMARY:27.08.23 - FC Vaduz - Neuchâtel Xamax
URL;VALUE=URI:https://xamax.ch/match/27-08-23-fc-vaduz-neuchatel-xamax/
DTSTAMP:20260420T191912Z
UID:69e67c304a8b8
END:VEVENT
END:VCALENDAR
