BEGIN:VCALENDAR
VERSION:2.0
PRODID:-//hacksw/handcal//NONSGML v1.0//EN
CALSCALE:GREGORIAN
BEGIN:VEVENT
LOCATION:\,  
DESCRIPTION:Stade de la Maladière
DTSTART:20230901T173000Z
DTEND:20230901T193000Z
SUMMARY:01.09.23 Neuchâtel Xamax - AC Bellinzone
URL;VALUE=URI:https://xamax.ch/match/01-09-23-neuchatel-xamax-ac-bellinzone/
DTSTAMP:20260420T191912Z
UID:69e67c30a43b4
END:VEVENT
END:VCALENDAR
