BEGIN:VCALENDAR
VERSION:2.0
PRODID:-//hacksw/handcal//NONSGML v1.0//EN
CALSCALE:GREGORIAN
BEGIN:VEVENT
LOCATION:\,  Bâle
DESCRIPTION:Schützenmatte - A
DTSTART:20230820T120000Z
DTEND:20230820T140000Z
SUMMARY:20.08.23 - VfR Kleinhüningen - Neuchâtel Xamax
URL;VALUE=URI:https://xamax.ch/match/20-08-23-vfr-kleinhuningen-neuchatel-xamax/
DTSTAMP:20260420T191912Z
UID:69e67c30a7340
END:VEVENT
END:VCALENDAR
