BEGIN:VCALENDAR
VERSION:2.0
PRODID:-//hacksw/handcal//NONSGML v1.0//EN
CALSCALE:GREGORIAN
BEGIN:VEVENT
LOCATION:Rue Pierre-à-Mazel 10\, 2001 Neuchâtel
DESCRIPTION:Stade de la Maladière\, Neuchâtel
DTSTART:20210205T190000Z
DTEND:20210205T210000Z
SUMMARY:05.02.21 - Neuch&#xE2\;tel Xamax FCS - FC Thun
URL;VALUE=URI:https://xamax.ch/match/05-02-21-neuchtel-xamax-fcs-fc-thun/
DTSTAMP:20260420T081842Z
UID:69e5e162cb8d2
END:VEVENT
END:VCALENDAR
