BEGIN:VCALENDAR
VERSION:2.0
PRODID:-//hacksw/handcal//NONSGML v1.0//EN
CALSCALE:GREGORIAN
BEGIN:VEVENT
LOCATION:Horwerstrasse 24\, 6010 Kriens
DESCRIPTION:Stadion Kleinfeld\, Kriens
DTSTART:20210226T180000Z
DTEND:20210226T200000Z
SUMMARY:26.02.21 - SC Kriens - Neuch&#xE2\;tel Xamax FCS
URL;VALUE=URI:https://xamax.ch/match/26-02-21-sc-kriens-neuchtel-xamax-fcs/
DTSTAMP:20260425T234609Z
UID:69ed52419b582
END:VEVENT
END:VCALENDAR
