BEGIN:VCALENDAR
VERSION:2.0
PRODID:-//hacksw/handcal//NONSGML v1.0//EN
CALSCALE:GREGORIAN
BEGIN:VEVENT
LOCATION:Feldstrasse 40\, 9500 Wil
DESCRIPTION:Sportpark Bergholz\, Wil
DTSTART:20210305T190000Z
DTEND:20210305T210000Z
SUMMARY:05.03.21 - FC Wil 1900 - Neuch&#xE2\;tel Xamax FCS
URL;VALUE=URI:https://xamax.ch/match/05-03-21-fc-wil-1900-neuchtel-xamax-fcs/
DTSTAMP:20260420T011641Z
UID:69e57e79b84a0
END:VEVENT
END:VCALENDAR
