BEGIN:VCALENDAR
VERSION:2.0
PRODID:-//hacksw/handcal//NONSGML v1.0//EN
CALSCALE:GREGORIAN
BEGIN:VEVENT
LOCATION:Rue Pierre-à-Mazel 10\, 2001 Neuchâtel
DESCRIPTION:Stade de la Maladière\, Neuchâtel
DTSTART:20210420T170000Z
DTEND:20210420T190000Z
SUMMARY:20.04.21 - Neuch&#xE2\;tel Xamax FCS - SC Kriens
URL;VALUE=URI:https://xamax.ch/match/20-04-21-neuchtel-xamax-fcs-sc-kriens/
DTSTAMP:20260425T234608Z
UID:69ed5240171f9
END:VEVENT
END:VCALENDAR
