BEGIN:VCALENDAR
VERSION:2.0
PRODID:-//hacksw/handcal//NONSGML v1.0//EN
CALSCALE:GREGORIAN
BEGIN:VEVENT
LOCATION:Rue Pierre-à-Mazel 10\, 2001 Neuchâtel
DESCRIPTION:Stade de la Maladière\, Neuchâtel
DTSTART:20210507T180000Z
DTEND:20210507T200000Z
SUMMARY:07.05.21 - Neuch&#xE2\;tel Xamax FCS - FC Wil 1900
URL;VALUE=URI:https://xamax.ch/match/07-05-21-neuchtel-xamax-fcs-fc-wil-1900/
DTSTAMP:20260423T202414Z
UID:69ea7feed4ca5
END:VEVENT
END:VCALENDAR
