BEGIN:VCALENDAR
VERSION:2.0
PRODID:-//hacksw/handcal//NONSGML v1.0//EN
CALSCALE:GREGORIAN
BEGIN:VEVENT
LOCATION:Weststrasse 12\, 3604 Thun
DESCRIPTION:Stockhorn Arena\, Thun
DTSTART:20190720T170000Z
DTEND:20190720T190000Z
SUMMARY:20.07.19 - FC Thun - Neuch&#xE2\;tel Xamax FCS
URL;VALUE=URI:https://xamax.ch/match/20-07-19-fc-thun-neuchtel-xamax-fcs/
DTSTAMP:20260422T091517Z
UID:69e891a5b1b5a
END:VEVENT
END:VCALENDAR
