BEGIN:VCALENDAR
VERSION:2.0
PRODID:-//hacksw/handcal//NONSGML v1.0//EN
CALSCALE:GREGORIAN
BEGIN:VEVENT
LOCATION:Rue Pierre-à-Mazel 10\, 2001 Neuchâtel
DESCRIPTION:Stade de la Maladière\, Neuchâtel
DTSTART:20191109T180000Z
DTEND:20191109T200000Z
SUMMARY:09.11.19 - Neuch&#xE2\;tel Xamax FCS - FC Thun
URL;VALUE=URI:https://xamax.ch/match/09-11-19-neuchtel-xamax-fcs-fc-thun/
DTSTAMP:20260420T081839Z
UID:69e5e15fd1215
END:VEVENT
END:VCALENDAR
