BEGIN:VCALENDAR
VERSION:2.0
PRODID:-//hacksw/handcal//NONSGML v1.0//EN
CALSCALE:GREGORIAN
BEGIN:VEVENT
LOCATION:Rue Pierre-à-Mazel 10\, 2001 Neuchâtel
DESCRIPTION:Stade de la Maladière\, Neuchâtel
DTSTART:20200620T161500Z
DTEND:20200620T181500Z
SUMMARY:20.06.20 - Neuch&#xE2\;tel Xamax FCS - FC Thun
URL;VALUE=URI:https://xamax.ch/match/20-06-20-neuchtel-xamax-fcs-fc-thun/
DTSTAMP:20260420T081842Z
UID:69e5e162c57d2
END:VEVENT
END:VCALENDAR
