BEGIN:VCALENDAR
VERSION:2.0
PRODID:-//hacksw/handcal//NONSGML v1.0//EN
CALSCALE:GREGORIAN
BEGIN:VEVENT
LOCATION:Weststrasse 12\, 3604 Thun
DESCRIPTION:Stockhorn Arena\, Thun
DTSTART:20200712T140000Z
DTEND:20200712T160000Z
SUMMARY:12.07.20 - FC Thun - Neuch&#xE2\;tel Xamax FCS
URL;VALUE=URI:https://xamax.ch/match/12-07-20-fc-thun-neuchtel-xamax-fcs/
DTSTAMP:20260420T081840Z
UID:69e5e160409c8
END:VEVENT
END:VCALENDAR
