BEGIN:VCALENDAR
VERSION:2.0
PRODID:-//hacksw/handcal//NONSGML v1.0//EN
CALSCALE:GREGORIAN
BEGIN:VEVENT
LOCATION:Weststrasse 12\, 3604 Thun
DESCRIPTION:Stockhorn Arena\, Thun
DTSTART:20190505T140000Z
DTEND:20190505T160000Z
SUMMARY:05.05.19 - FC Thun - Neuchâtel Xamax FCS
URL;VALUE=URI:https://xamax.ch/match/05-05-19-fc-thun-neuchatel-xamax-fcs/
DTSTAMP:20260420T081842Z
UID:69e5e1624a0b7
END:VEVENT
END:VCALENDAR
