BEGIN:VCALENDAR
VERSION:2.0
PRODID:-//hacksw/handcal//NONSGML v1.0//EN
CALSCALE:GREGORIAN
BEGIN:VEVENT
LOCATION:Rue Pierre-à-Mazel 10\, 2001 Neuchâtel
DESCRIPTION:Stade de la Maladière\, Neuchâtel
DTSTART:20190331T140000Z
DTEND:20190331T160000Z
SUMMARY:31.03.19 - Neuchâtel Xamax FCS - FC Thun
URL;VALUE=URI:https://xamax.ch/match/31-03-19-neuchatel-xamax-fcs-fc-thun/
DTSTAMP:20260420T101233Z
UID:69e5fc1118a28
END:VEVENT
END:VCALENDAR
