BEGIN:VCALENDAR
VERSION:2.0
PRODID:-//hacksw/handcal//NONSGML v1.0//EN
CALSCALE:GREGORIAN
BEGIN:VEVENT
LOCATION:Sankt Jakobs-Strasse 395\, 4052 Basel
DESCRIPTION:St. Jakob-Park\, Basel
DTSTART:20050922T173000Z
DTEND:20050922T193000Z
SUMMARY:07.11.10 - Neuchâtel Xamax FCS - BSC Young Boys
URL;VALUE=URI:https://xamax.ch/match/07-11-10-neuchatel-xamax-fcs-bsc-young-boys/
DTSTAMP:20260419T182809Z
UID:69e51eb9a64c7
END:VEVENT
END:VCALENDAR
