BEGIN:VCALENDAR
VERSION:2.0
PRODID:-//hacksw/handcal//NONSGML v1.0//EN
CALSCALE:GREGORIAN
BEGIN:VEVENT
LOCATION:Badenerstrasse 500\, 8048 Zürich
DESCRIPTION:Stadion Letzigrund\, Zürich
DTSTART:20110507T154500Z
DTEND:20110507T174500Z
SUMMARY:26.05.07 - FC Lugano - Neuchâtel Xamax FCS
URL;VALUE=URI:https://xamax.ch/match/26-05-07-fc-lugano-neuchatel-xamax-fcs/
DTSTAMP:20260421T193013Z
UID:69e7d045767cb
END:VEVENT
END:VCALENDAR
