BEGIN:VCALENDAR
VERSION:2.0
PRODID:-//hacksw/handcal//NONSGML v1.0//EN
CALSCALE:GREGORIAN
BEGIN:VEVENT
LOCATION:\,  
DESCRIPTION:
DTSTART:20050316T183000Z
DTEND:20050316T203000Z
SUMMARY:24.10.16 - Servette FC - Neuchâtel Xamax FCS
URL;VALUE=URI:https://xamax.ch/match/24-10-16-servette-fc-neuchatel-xamax-fcs/
DTSTAMP:20260419T173629Z
UID:69e5129df08aa
END:VEVENT
END:VCALENDAR
